BEGIN:VCALENDAR
VERSION:2.0
PRODID:-//SETCARCE - ECPv6.0.10//NONSGML v1.0//EN
CALSCALE:GREGORIAN
METHOD:PUBLISH
X-WR-CALNAME:SETCARCE
X-ORIGINAL-URL:https://setcarce.org.br
X-WR-CALDESC:Eventos para SETCARCE
REFRESH-INTERVAL;VALUE=DURATION:PT1H
X-Robots-Tag:noindex
X-PUBLISHED-TTL:PT1H
BEGIN:VTIMEZONE
TZID:UTC
BEGIN:STANDARD
TZOFFSETFROM:+0000
TZOFFSETTO:+0000
TZNAME:UTC
DTSTART:20170101T000000
END:STANDARD
END:VTIMEZONE
BEGIN:VEVENT
DTSTART;TZID=UTC:20171116T080000
DTEND;TZID=UTC:20171116T170000
DTSTAMP:20260422T194734
CREATED:20171116T101633Z
LAST-MODIFIED:20171116T151848Z
UID:16603-1510819200-1510851600@setcarce.org.br
SUMMARY:SETCARCE REALIZA PALESTRA " ENTENDA AS MUDANÇAS DA REFORMA TRABALHISTA"
DESCRIPTION:Foi realizada na manhã desta Quinta-feira\, 16/11\, no auditório Orlando Monteiro na sede do SETCARCE\,  palestra com o tema “ENTENDA AS MUDANÇAS DA REFORMA TRABALHISTA”. \nApresentada pelos Assessores Jurídico do SETCARCE Dr. Vitor Holanda e a Dra. Priscilla Aquino\, quando foram esclarecidas dúvidas entre os  presentes. \nClique no link abaixo para visualizar a apresentação: \nApresentação – Reforma Trabalhista \n\n 
URL:https://setcarce.org.br/evento/setcarce-realiza-palestra-entenda-as-mudancas-da-reforma-trabalhista/
ATTACH;FMTTYPE=image/jpeg:https://setcarce.org.br/wp-content/uploads/2017/11/Palestra-Reforma-Trab.jpg
END:VEVENT
END:VCALENDAR